Package: TreeSummarizedExperiment Version: 2.14.0 Command: F:\biocbuild\bbs-3.20-bioc\R\bin\R.exe CMD check --no-multiarch --install=check:TreeSummarizedExperiment.install-out.txt --library=F:\biocbuild\bbs-3.20-bioc\R\library --no-vignettes --timings TreeSummarizedExperiment_2.14.0.tar.gz StartedAt: 2025-02-04 07:14:51 -0500 (Tue, 04 Feb 2025) EndedAt: 2025-02-04 07:20:38 -0500 (Tue, 04 Feb 2025) EllapsedTime: 346.9 seconds RetCode: 0 Status: OK CheckDir: TreeSummarizedExperiment.Rcheck Warnings: 0