Package: TreeSummarizedExperiment Version: 2.14.0 Command: /home/biocbuild/R/R/bin/R CMD build --keep-empty-dirs --no-resave-data TreeSummarizedExperiment StartedAt: 2025-02-04 03:39:13 -0000 (Tue, 04 Feb 2025) EndedAt: 2025-02-04 03:40:49 -0000 (Tue, 04 Feb 2025) EllapsedTime: 96.2 seconds RetCode: 0 Status: OK PackageFile: TreeSummarizedExperiment_2.14.0.tar.gz PackageFileSize: 1.059 MiB