Package: TreeSummarizedExperiment Version: 2.14.0 Command: /home/biocbuild/R/R/bin/R CMD check --install=check:TreeSummarizedExperiment.install-out.txt --library=/home/biocbuild/R/R/site-library --no-vignettes --timings TreeSummarizedExperiment_2.14.0.tar.gz StartedAt: 2025-02-04 11:53:29 -0000 (Tue, 04 Feb 2025) EndedAt: 2025-02-04 12:00:31 -0000 (Tue, 04 Feb 2025) EllapsedTime: 422.7 seconds RetCode: 0 Status: OK CheckDir: TreeSummarizedExperiment.Rcheck Warnings: 0