Package: Trendy Version: 1.28.0 Command: /Library/Frameworks/R.framework/Resources/bin/R CMD build --keep-empty-dirs --no-resave-data Trendy StartedAt: 2025-02-04 10:03:42 -0500 (Tue, 04 Feb 2025) EndedAt: 2025-02-04 10:05:15 -0500 (Tue, 04 Feb 2025) EllapsedTime: 93.3 seconds RetCode: 0 Status: OK PackageFile: Trendy_1.28.0.tar.gz PackageFileSize: 1.084 MiB