Package: Trendy
Version: 1.28.0
Command: /Library/Frameworks/R.framework/Resources/bin/R CMD build --keep-empty-dirs --no-resave-data Trendy
StartedAt: 2024-11-19 19:00:48 -0500 (Tue, 19 Nov 2024)
EndedAt: 2024-11-19 19:02:16 -0500 (Tue, 19 Nov 2024)
EllapsedTime: 87.8 seconds
RetCode: 0
Status: OK
PackageFile: Trendy_1.28.0.tar.gz
PackageFileSize: 1.085 <A href="http://en.wikipedia.org/wiki/MiB" target="_blank">MiB</A>