Package: Trendy Version: 1.28.0 Command: rm -rf Trendy.buildbin-libdir && mkdir Trendy.buildbin-libdir && F:\biocbuild\bbs-3.20-bioc\R\bin\R.exe CMD INSTALL --build --library=Trendy.buildbin-libdir Trendy_1.28.0.tar.gz StartedAt: 2025-02-04 09:43:12 -0500 (Tue, 04 Feb 2025) EndedAt: 2025-02-04 09:43:40 -0500 (Tue, 04 Feb 2025) EllapsedTime: 28.1 seconds RetCode: 0 Status: OK PackageFile: Trendy_1.28.0.zip PackageFileSize: 775.5 KiB