Package: Trendy Version: 1.28.0 Command: F:\biocbuild\bbs-3.20-bioc\R\bin\R.exe CMD INSTALL Trendy StartedAt: 2025-02-03 16:27:05 -0500 (Mon, 03 Feb 2025) EndedAt: 2025-02-03 16:27:33 -0500 (Mon, 03 Feb 2025) EllapsedTime: 28.5 seconds RetCode: 0 Status: OK