Package: TurboNorm Version: 1.54.0 Command: /Library/Frameworks/R.framework/Resources/bin/R CMD build --keep-empty-dirs --no-resave-data TurboNorm StartedAt: 2025-02-03 23:03:42 -0500 (Mon, 03 Feb 2025) EndedAt: 2025-02-03 23:04:18 -0500 (Mon, 03 Feb 2025) EllapsedTime: 35.8 seconds RetCode: 0 Status: OK PackageFile: TurboNorm_1.54.0.tar.gz PackageFileSize: 2.021 MiB