Package: TurboNorm Version: 1.54.0 Command: rm -rf TurboNorm.buildbin-libdir && mkdir TurboNorm.buildbin-libdir && F:\biocbuild\bbs-3.20-bioc\R\bin\R.exe CMD INSTALL --build --library=TurboNorm.buildbin-libdir TurboNorm_1.54.0.tar.gz StartedAt: 2025-02-04 09:43:51 -0500 (Tue, 04 Feb 2025) EndedAt: 2025-02-04 09:44:04 -0500 (Tue, 04 Feb 2025) EllapsedTime: 13.4 seconds RetCode: 0 Status: OK PackageFile: TurboNorm_1.54.0.zip PackageFileSize: 2.057 MiB