Package: TurboNorm Version: 1.54.0 Command: chmod a+r TurboNorm -R && F:\biocbuild\bbs-3.20-bioc\R\bin\R.exe CMD build --keep-empty-dirs --no-resave-data TurboNorm StartedAt: 2025-02-03 22:42:51 -0500 (Mon, 03 Feb 2025) EndedAt: 2025-02-03 22:43:18 -0500 (Mon, 03 Feb 2025) EllapsedTime: 27.3 seconds RetCode: 0 Status: OK PackageFile: TurboNorm_1.54.0.tar.gz PackageFileSize: 2.023 MiB