Package: TurboNorm Version: 1.54.0 Command: F:\biocbuild\bbs-3.20-bioc\R\bin\R.exe CMD INSTALL TurboNorm StartedAt: 2025-02-03 15:40:03 -0500 (Mon, 03 Feb 2025) EndedAt: 2025-02-03 15:40:18 -0500 (Mon, 03 Feb 2025) EllapsedTime: 15.0 seconds RetCode: 0 Status: OK