Package: UCell Version: 2.10.1 Command: F:\biocbuild\bbs-3.20-bioc\R\bin\R.exe CMD INSTALL UCell StartedAt: 2025-02-03 16:31:17 -0500 (Mon, 03 Feb 2025) EndedAt: 2025-02-03 16:31:50 -0500 (Mon, 03 Feb 2025) EllapsedTime: 32.9 seconds RetCode: 0 Status: OK