Package: UPDhmm Version: 1.2.0 Command: /Library/Frameworks/R.framework/Resources/bin/R CMD INSTALL UPDhmm StartedAt: 2025-02-17 16:17:49 -0500 (Mon, 17 Feb 2025) EndedAt: 2025-02-17 16:17:51 -0500 (Mon, 17 Feb 2025) EllapsedTime: 2.3 seconds RetCode: 0 Status: OK