Package: UPDhmm Version: 1.2.0 Command: /Library/Frameworks/R.framework/Resources/bin/R CMD INSTALL UPDhmm StartedAt: 2024-11-08 15:35:58 -0500 (Fri, 08 Nov 2024) EndedAt: 2024-11-08 15:35:59 -0500 (Fri, 08 Nov 2024) EllapsedTime: 1.0 seconds RetCode: 0 Status: OK