Package: UPDhmm Version: 1.2.0 Command: /Library/Frameworks/R.framework/Resources/bin/R CMD build --keep-empty-dirs --no-resave-data UPDhmm StartedAt: 2025-02-03 23:06:44 -0500 (Mon, 03 Feb 2025) EndedAt: 2025-02-03 23:07:38 -0500 (Mon, 03 Feb 2025) EllapsedTime: 53.9 seconds RetCode: 0 Status: OK PackageFile: UPDhmm_1.2.0.tar.gz PackageFileSize: 300 KiB