Package: UPDhmm Version: 1.2.0 Command: /Library/Frameworks/R.framework/Resources/bin/R CMD INSTALL UPDhmm StartedAt: 2025-02-03 15:50:34 -0500 (Mon, 03 Feb 2025) EndedAt: 2025-02-03 15:50:38 -0500 (Mon, 03 Feb 2025) EllapsedTime: 4.0 seconds RetCode: 0 Status: OK