Package: UPDhmm Version: 1.2.0 Command: chmod a+r UPDhmm -R && F:\biocbuild\bbs-3.20-bioc\R\bin\R.exe CMD build --keep-empty-dirs --no-resave-data UPDhmm StartedAt: 2025-02-03 22:44:56 -0500 (Mon, 03 Feb 2025) EndedAt: 2025-02-03 22:45:28 -0500 (Mon, 03 Feb 2025) EllapsedTime: 32.1 seconds RetCode: 0 Status: OK PackageFile: UPDhmm_1.2.0.tar.gz PackageFileSize: 254.6 KiB