Package: UPDhmm
Version: 1.2.0
Command: F:\biocbuild\bbs-3.20-bioc\R\bin\R.exe CMD check --no-multiarch --install=check:UPDhmm.install-out.txt --library=F:\biocbuild\bbs-3.20-bioc\R\library --no-vignettes --timings UPDhmm_1.2.0.tar.gz
StartedAt: 2025-02-18 07:00:00 -0500 (Tue, 18 Feb 2025)
EndedAt: 2025-02-18 07:01:21 -0500 (Tue, 18 Feb 2025)
EllapsedTime: 81.2 seconds
RetCode: 0
Status: OK
CheckDir: UPDhmm.Rcheck
Warnings: 0