Package: UPDhmm Version: 1.2.0 Command: /home/biocbuild/R/R/bin/R CMD check --install=check:UPDhmm.install-out.txt --library=/home/biocbuild/R/R/site-library --no-vignettes --timings UPDhmm_1.2.0.tar.gz StartedAt: 2025-02-04 12:01:25 -0000 (Tue, 04 Feb 2025) EndedAt: 2025-02-04 12:02:35 -0000 (Tue, 04 Feb 2025) EllapsedTime: 70.1 seconds RetCode: 0 Status: OK CheckDir: UPDhmm.Rcheck Warnings: 0