Package: UPDhmm Version: 1.2.0 Command: /home/biocbuild/R/R/bin/R CMD INSTALL UPDhmm StartedAt: 2025-02-03 20:46:28 -0000 (Mon, 03 Feb 2025) EndedAt: 2025-02-03 20:46:30 -0000 (Mon, 03 Feb 2025) EllapsedTime: 1.8 seconds RetCode: 0 Status: OK