Package: Ularcirc Version: 1.24.0 Command: /Library/Frameworks/R.framework/Resources/bin/R CMD build --keep-empty-dirs --no-resave-data Ularcirc StartedAt: 2025-02-03 23:05:23 -0500 (Mon, 03 Feb 2025) EndedAt: 2025-02-03 23:05:54 -0500 (Mon, 03 Feb 2025) EllapsedTime: 31.4 seconds RetCode: 0 Status: OK PackageFile: Ularcirc_1.24.0.tar.gz PackageFileSize: 5.214 MiB