Package: Ularcirc Version: 1.24.0 Command: rm -rf Ularcirc.buildbin-libdir && mkdir Ularcirc.buildbin-libdir && F:\biocbuild\bbs-3.20-bioc\R\bin\R.exe CMD INSTALL --build --library=Ularcirc.buildbin-libdir Ularcirc_1.24.0.tar.gz StartedAt: 2025-02-04 09:44:16 -0500 (Tue, 04 Feb 2025) EndedAt: 2025-02-04 09:44:40 -0500 (Tue, 04 Feb 2025) EllapsedTime: 24.1 seconds RetCode: 0 Status: OK PackageFile: Ularcirc_1.24.0.zip PackageFileSize: 4.854 MiB