Package: Uniquorn Version: 2.26.0 Command: /Library/Frameworks/R.framework/Resources/bin/R CMD build --keep-empty-dirs --no-resave-data Uniquorn StartedAt: 2025-02-04 10:15:15 -0500 (Tue, 04 Feb 2025) EndedAt: 2025-02-04 10:16:10 -0500 (Tue, 04 Feb 2025) EllapsedTime: 54.8 seconds RetCode: 0 Status: OK PackageFile: Uniquorn_2.26.0.tar.gz PackageFileSize: 2.196 MiB