Package: Uniquorn Version: 2.26.0 Command: /Library/Frameworks/R.framework/Resources/bin/R CMD INSTALL Uniquorn StartedAt: 2025-02-03 15:47:03 -0500 (Mon, 03 Feb 2025) EndedAt: 2025-02-03 15:48:24 -0500 (Mon, 03 Feb 2025) EllapsedTime: 80.6 seconds RetCode: 0 Status: OK