Package: Uniquorn Version: 2.26.0 Command: /home/biocbuild/bbs-3.20-bioc/R/bin/R CMD check --install=check:Uniquorn.install-out.txt --library=/home/biocbuild/bbs-3.20-bioc/R/site-library --timings Uniquorn_2.26.0.tar.gz StartedAt: 2025-02-04 03:27:34 -0500 (Tue, 04 Feb 2025) EndedAt: 2025-02-04 03:31:58 -0500 (Tue, 04 Feb 2025) EllapsedTime: 264.2 seconds RetCode: 0 Status: OK CheckDir: Uniquorn.Rcheck Warnings: 0