Package: Uniquorn
Version: 2.25.0
Command: chmod a+r Uniquorn -R && C:\Users\biocbuild\bbs-3.20-bioc\R\bin\R.exe CMD build --keep-empty-dirs --no-resave-data Uniquorn
StartedAt: 2024-07-15 21:22:22 -0400 (Mon, 15 Jul 2024)
EndedAt: 2024-07-15 21:23:07 -0400 (Mon, 15 Jul 2024)
EllapsedTime: 45.0 seconds
RetCode: 0
Status: OK
PackageFile: Uniquorn_2.25.0.tar.gz
PackageFileSize: 2.196 <A href="http://en.wikipedia.org/wiki/MiB" target="_blank">MiB</A>