Package: VAExprs
Version: 1.12.0
Command: /home/biocbuild/bbs-3.20-bioc/R/bin/R CMD INSTALL VAExprs
StartedAt: 2025-02-17 16:03:02 -0500 (Mon, 17 Feb 2025)
EndedAt: 2025-02-17 16:03:33 -0500 (Mon, 17 Feb 2025)
EllapsedTime: 31.5 seconds
RetCode: 0
Status: OK