Package: VCFArray Version: 1.22.0 Command: rm -rf VCFArray.buildbin-libdir && mkdir VCFArray.buildbin-libdir && /Users/biocbuild/BBS/utils/build-universal.sh VCFArray_1.22.0.tar.gz /Library/Frameworks/R.framework/Resources/bin/R VCFArray.buildbin-libdir StartedAt: 2025-02-01 17:19:33 -0500 (Sat, 01 Feb 2025) EndedAt: 2025-02-01 17:20:28 -0500 (Sat, 01 Feb 2025) EllapsedTime: 54.1 seconds RetCode: 0 Status: OK PackageFile: VCFArray_1.22.0.tgz PackageFileSize: 1.038 MiB