Package: VCFArray Version: 1.22.0 Command: /Library/Frameworks/R.framework/Resources/bin/R CMD build --keep-empty-dirs --no-resave-data VCFArray StartedAt: 2025-01-31 10:06:04 -0500 (Fri, 31 Jan 2025) EndedAt: 2025-01-31 10:07:32 -0500 (Fri, 31 Jan 2025) EllapsedTime: 87.8 seconds RetCode: 0 Status: OK PackageFile: VCFArray_1.22.0.tar.gz PackageFileSize: 302.5 KiB