Package: VCFArray Version: 1.22.0 Command: /Library/Frameworks/R.framework/Resources/bin/R CMD check --install=check:VCFArray.install-out.txt --library=/Library/Frameworks/R.framework/Resources/library --no-vignettes --timings VCFArray_1.22.0.tar.gz StartedAt: 2025-01-31 11:39:42 -0500 (Fri, 31 Jan 2025) EndedAt: 2025-01-31 11:49:32 -0500 (Fri, 31 Jan 2025) EllapsedTime: 590.0 seconds RetCode: 0 Status: OK CheckDir: VCFArray.Rcheck Warnings: 0