Package: VCFArray Version: 1.22.0 Command: /home/biocbuild/bbs-3.20-bioc/R/bin/R CMD build --keep-empty-dirs --no-resave-data --md5 VCFArray StartedAt: 2025-01-30 19:35:49 -0500 (Thu, 30 Jan 2025) EndedAt: 2025-01-30 19:36:59 -0500 (Thu, 30 Jan 2025) EllapsedTime: 70.1 seconds RetCode: 0 Status: OK PackageFile: VCFArray_1.22.0.tar.gz PackageFileSize: 303.1 KiB