Package: VCFArray Version: 1.22.0 Command: /home/biocbuild/bbs-3.20-bioc/R/bin/R CMD INSTALL VCFArray StartedAt: 2025-01-30 15:24:13 -0500 (Thu, 30 Jan 2025) EndedAt: 2025-01-30 15:24:57 -0500 (Thu, 30 Jan 2025) EllapsedTime: 44.4 seconds RetCode: 0 Status: OK