Package: VCFArray Version: 1.22.0 Command: rm -rf VCFArray.buildbin-libdir && mkdir VCFArray.buildbin-libdir && F:\biocbuild\bbs-3.20-bioc\R\bin\R.exe CMD INSTALL --build --library=VCFArray.buildbin-libdir VCFArray_1.22.0.tar.gz StartedAt: 2025-01-31 09:50:53 -0500 (Fri, 31 Jan 2025) EndedAt: 2025-01-31 09:52:07 -0500 (Fri, 31 Jan 2025) EllapsedTime: 73.8 seconds RetCode: 0 Status: OK PackageFile: VCFArray_1.22.0.zip PackageFileSize: 1.046 MiB