Package: VCFArray Version: 1.22.0 Command: F:\biocbuild\bbs-3.20-bioc\R\bin\R.exe CMD check --no-multiarch --install=check:VCFArray.install-out.txt --library=F:\biocbuild\bbs-3.20-bioc\R\library --no-vignettes --timings VCFArray_1.22.0.tar.gz StartedAt: 2025-01-31 07:35:10 -0500 (Fri, 31 Jan 2025) EndedAt: 2025-01-31 07:40:57 -0500 (Fri, 31 Jan 2025) EllapsedTime: 347.4 seconds RetCode: 0 Status: OK CheckDir: VCFArray.Rcheck Warnings: 0