Package: VCFArray Version: 1.22.0 Command: /home/biocbuild/R/R/bin/R CMD build --keep-empty-dirs --no-resave-data VCFArray StartedAt: 2025-01-31 03:24:05 -0000 (Fri, 31 Jan 2025) EndedAt: 2025-01-31 03:25:40 -0000 (Fri, 31 Jan 2025) EllapsedTime: 95.1 seconds RetCode: 0 Status: OK PackageFile: VCFArray_1.22.0.tar.gz PackageFileSize: 368.6 KiB