Package: VCFArray Version: 1.22.0 Command: /home/biocbuild/R/R/bin/R CMD INSTALL VCFArray StartedAt: 2025-01-30 20:29:32 -0000 (Thu, 30 Jan 2025) EndedAt: 2025-01-30 20:30:23 -0000 (Thu, 30 Jan 2025) EllapsedTime: 51.2 seconds RetCode: 0 Status: OK