Package: VDJdive Version: 1.8.0 Command: /Library/Frameworks/R.framework/Resources/bin/R CMD INSTALL VDJdive StartedAt: 2025-02-10 15:24:35 -0500 (Mon, 10 Feb 2025) EndedAt: 2025-02-10 15:25:28 -0500 (Mon, 10 Feb 2025) EllapsedTime: 53.3 seconds RetCode: 0 Status: OK