Package: VDJdive Version: 1.8.0 Command: /home/biocbuild/bbs-3.20-bioc/R/bin/R CMD INSTALL VDJdive StartedAt: 2025-02-03 15:27:15 -0500 (Mon, 03 Feb 2025) EndedAt: 2025-02-03 15:27:39 -0500 (Mon, 03 Feb 2025) EllapsedTime: 24.2 seconds RetCode: 0 Status: OK