Package: VDJdive Version: 1.8.0 Command: /home/biocbuild/R/R/bin/R CMD build --keep-empty-dirs --no-resave-data VDJdive StartedAt: 2025-02-04 03:48:12 -0000 (Tue, 04 Feb 2025) EndedAt: 2025-02-04 03:49:19 -0000 (Tue, 04 Feb 2025) EllapsedTime: 66.1 seconds RetCode: 0 Status: OK PackageFile: VDJdive_1.8.0.tar.gz PackageFileSize: 465 KiB