Package: VDJdive Version: 1.8.0 Command: /home/biocbuild/R/R/bin/R CMD check --install=check:VDJdive.install-out.txt --library=/home/biocbuild/R/R/site-library --no-vignettes --timings VDJdive_1.8.0.tar.gz StartedAt: 2025-02-04 12:03:23 -0000 (Tue, 04 Feb 2025) EndedAt: 2025-02-04 12:07:51 -0000 (Tue, 04 Feb 2025) EllapsedTime: 268.4 seconds RetCode: 0 Status: OK CheckDir: VDJdive.Rcheck Warnings: 0