Package: VDJdive Version: 1.8.0 Command: /home/biocbuild/R/R/bin/R CMD INSTALL VDJdive StartedAt: 2025-02-03 20:35:32 -0000 (Mon, 03 Feb 2025) EndedAt: 2025-02-03 20:36:05 -0000 (Mon, 03 Feb 2025) EllapsedTime: 33.0 seconds RetCode: 0 Status: OK