Package: VERSO Version: 1.16.0 Command: /Library/Frameworks/R.framework/Resources/bin/R CMD build --keep-empty-dirs --no-resave-data VERSO StartedAt: 2025-02-18 10:15:11 -0500 (Tue, 18 Feb 2025) EndedAt: 2025-02-18 10:15:21 -0500 (Tue, 18 Feb 2025) EllapsedTime: 10.2 seconds RetCode: 0 Status: OK PackageFile: VERSO_1.16.0.tar.gz PackageFileSize: 626 <A href="http://en.wikipedia.org/wiki/KiB" target="_blank">KiB</A>