Package: VERSO
Version: 1.16.0
Command: rm -rf VERSO.buildbin-libdir && mkdir VERSO.buildbin-libdir && /Users/biocbuild/BBS/utils/build-universal.sh VERSO_1.16.0.tar.gz /Library/Frameworks/R.framework/Resources/bin/R VERSO.buildbin-libdir
StartedAt: 2024-11-09 17:17:21 -0500 (Sat, 09 Nov 2024)
EndedAt: 2024-11-09 17:17:23 -0500 (Sat, 09 Nov 2024)
EllapsedTime: 2.1 seconds
RetCode: 0
Status: OK
PackageFile: VERSO_1.16.0.tgz
PackageFileSize: 665.9 <A href="http://en.wikipedia.org/wiki/KiB" target="_blank">KiB</A>