Package: VERSO
Version: 1.16.0
Command: rm -rf VERSO.buildbin-libdir && mkdir VERSO.buildbin-libdir && /Users/biocbuild/BBS/utils/build-universal.sh VERSO_1.16.0.tar.gz /Library/Frameworks/R.framework/Resources/bin/R VERSO.buildbin-libdir
StartedAt: 2024-11-20 04:57:27 -0500 (Wed, 20 Nov 2024)
EndedAt: 2024-11-20 04:57:34 -0500 (Wed, 20 Nov 2024)
EllapsedTime: 7.0 seconds
RetCode: 0
Status: OK
PackageFile: VERSO_1.16.0.tgz
PackageFileSize: 665.3 <A href="http://en.wikipedia.org/wiki/KiB" target="_blank">KiB</A>