Package: VERSO Version: 1.16.0 Command: /home/biocbuild/bbs-3.20-bioc/R/bin/R CMD INSTALL VERSO StartedAt: 2025-02-03 15:27:12 -0500 (Mon, 03 Feb 2025) EndedAt: 2025-02-03 15:27:15 -0500 (Mon, 03 Feb 2025) EllapsedTime: 2.5 seconds RetCode: 0 Status: OK