Package: VaSP Version: 1.18.0 Command: /Library/Frameworks/R.framework/Resources/bin/R CMD build --keep-empty-dirs --no-resave-data VaSP StartedAt: 2024-11-19 19:03:54 -0500 (Tue, 19 Nov 2024) EndedAt: 2024-11-19 19:04:53 -0500 (Tue, 19 Nov 2024) EllapsedTime: 59.2 seconds RetCode: 0 Status: OK PackageFile: VaSP_1.18.0.tar.gz PackageFileSize: 8.456 MiB