Package: VaSP Version: 1.18.0 Command: /Library/Frameworks/R.framework/Resources/bin/R CMD build --keep-empty-dirs --no-resave-data VaSP StartedAt: 2025-02-03 23:08:09 -0500 (Mon, 03 Feb 2025) EndedAt: 2025-02-03 23:10:01 -0500 (Mon, 03 Feb 2025) EllapsedTime: 111.7 seconds RetCode: 0 Status: OK PackageFile: VaSP_1.18.0.tar.gz PackageFileSize: 8.456 MiB