Package: VaSP Version: 1.18.0 Command: /Library/Frameworks/R.framework/Resources/bin/R CMD INSTALL VaSP StartedAt: 2025-02-03 16:25:18 -0500 (Mon, 03 Feb 2025) EndedAt: 2025-02-03 16:26:29 -0500 (Mon, 03 Feb 2025) EllapsedTime: 70.6 seconds RetCode: 0 Status: OK