Package: VaSP Version: 1.18.0 Command: /home/biocbuild/bbs-3.20-bioc/R/bin/R CMD build --keep-empty-dirs --no-resave-data --md5 VaSP StartedAt: 2025-02-03 19:45:25 -0500 (Mon, 03 Feb 2025) EndedAt: 2025-02-03 19:46:11 -0500 (Mon, 03 Feb 2025) EllapsedTime: 46.0 seconds RetCode: 0 Status: OK PackageFile: VaSP_1.18.0.tar.gz PackageFileSize: 8.459 MiB