Package: VaSP Version: 1.18.0 Command: /home/biocbuild/bbs-3.20-bioc/R/bin/R CMD INSTALL VaSP StartedAt: 2025-02-03 15:54:47 -0500 (Mon, 03 Feb 2025) EndedAt: 2025-02-03 15:55:22 -0500 (Mon, 03 Feb 2025) EllapsedTime: 34.7 seconds RetCode: 0 Status: OK